BEGIN:VCALENDAR
VERSION:2.0
PRODID:-//Paroisses de Ploemeur et de Larmor-Plage - ECPv6.7.0//NONSGML v1.0//EN
CALSCALE:GREGORIAN
METHOD:PUBLISH
X-ORIGINAL-URL:https://paroisses-ploemeur-larmorplage.fr
X-WR-CALDESC:Évènements pour Paroisses de Ploemeur et de Larmor-Plage
REFRESH-INTERVAL;VALUE=DURATION:PT1H
X-Robots-Tag:noindex
X-PUBLISHED-TTL:PT1H
BEGIN:VTIMEZONE
TZID:UTC
BEGIN:STANDARD
TZOFFSETFROM:+0000
TZOFFSETTO:+0000
TZNAME:UTC
DTSTART:20260101T000000
END:STANDARD
END:VTIMEZONE
BEGIN:VEVENT
DTSTART;VALUE=DATE:20260220
DTEND;VALUE=DATE:20260328
DTSTAMP:20260425T121658
CREATED:20260221T131921Z
LAST-MODIFIED:20260226T194953Z
UID:10318-1771545600-1774655999@paroisses-ploemeur-larmorplage.fr
SUMMARY:Opération Solidarité
DESCRIPTION:Tous les vendredi de carême : \n\n18H00 Chemin de Croix\n18H30 Messe\n19H00 Soupe de solidarité ou pain/pomme (Apporter bol et couverts)\n\nBénéfices pour Foi et Lumière \n\n20 février : Chapelle Maudé Pain pomme\n27 février : Chapelle St Simon/St Jude Soupe de solidarité\n6 mars : Chapelle Sainte Anne Pain pomme\n13 mars : Chapelle ND de La Garde Soupe de solidarité\n20 mars : Chapelle Saint Léonard Pain pomme\n27 mars : Eglise Notre Dame de Larmor Soupe de solidarité
URL:https://paroisses-ploemeur-larmorplage.fr/evenement/operation-solidarite/
CATEGORIES:Evènement accueil,Larmor Plage,Ploemeur
ATTACH;FMTTYPE=image/jpeg:https://paroisses-ploemeur-larmorplage.fr/wp-content/uploads/2020/02/soupe.jpg
END:VEVENT
BEGIN:VEVENT
DTSTART;VALUE=DATE:20260226
DTEND;VALUE=DATE:20260320
DTSTAMP:20260425T121658
CREATED:20260221T130135Z
LAST-MODIFIED:20260226T194858Z
UID:10313-1772064000-1773964799@paroisses-ploemeur-larmorplage.fr
SUMMARY:Veillée d'adoration tous les jeudi
DESCRIPTION:Tous les jeudi de 20h à 21h à Larmor-Plage\nTous les jeudi de 18h30 à 19h30 après la messe à Ploemeur
URL:https://paroisses-ploemeur-larmorplage.fr/evenement/veillee-dadoration-a-larmor-tous-les-jeudis/
LOCATION:Eglise Notre Dame\, place Notre Dame\, Larmor-Plage\, 56260\, France
CATEGORIES:Evènement accueil,Larmor Plage,Ploemeur
ATTACH;FMTTYPE=image/jpeg:https://paroisses-ploemeur-larmorplage.fr/wp-content/uploads/2020/02/adoration.jpg
END:VEVENT
BEGIN:VEVENT
DTSTART;VALUE=DATE:20260227
DTEND;VALUE=DATE:20260321
DTSTAMP:20260425T121658
CREATED:20260221T132141Z
LAST-MODIFIED:20260221T133048Z
UID:10322-1772150400-1774051199@paroisses-ploemeur-larmorplage.fr
SUMMARY:Chemin de Croix à Larmor tous les vendredi
DESCRIPTION:A 17h à Larmor Plage\, \ntous les vendredi de Carême
URL:https://paroisses-ploemeur-larmorplage.fr/evenement/chemin-de-croix-tous-les-vendredi-a-larmor/
CATEGORIES:Evènement accueil,Larmor Plage
ATTACH;FMTTYPE=image/jpeg:https://paroisses-ploemeur-larmorplage.fr/wp-content/uploads/2020/02/vendredi-saint.jpg
END:VEVENT
BEGIN:VEVENT
DTSTART;VALUE=DATE:20260228
DTEND;VALUE=DATE:20260301
DTSTAMP:20260425T121658
CREATED:20260127T111146Z
LAST-MODIFIED:20260127T111146Z
UID:10273-1772236800-1772323199@paroisses-ploemeur-larmorplage.fr
SUMMARY:Tro Bro Planwour 2026
DESCRIPTION:« Elargis l’espace de ta tente (Isaïe 54 :2) » \nNotre pèlerinage inter-paroissial de Carême reliera Larmor-Plage à Lomener\, où nous participerons à la messe de 18h.  \n Vous pouvez marcher avec nous toute la journée (distance 21 km)\, ou nous rejoindre à l’une des étapes : \n Lieu                                                                        rendez-vous \nNotre-Dame de Larmor-Plage   (départ)                     8h30 \nChapelle saint Maudé                                                     11h \nChapelle sainte Anne                                                      11h50 \nSalle Ninnoch à Ploemeur (pique-nique)                   12h30 \nChapelle st Léonard                                                        14h40 \nChapelle Notre Dame de la Garde (arrivée)               17h
URL:https://paroisses-ploemeur-larmorplage.fr/evenement/tro-bro-planwour-2026/
CATEGORIES:Evènement accueil
ATTACH;FMTTYPE=image/jpeg:https://paroisses-ploemeur-larmorplage.fr/wp-content/uploads/2023/02/photo-marche-Tro-Planwour.jpg
END:VEVENT
END:VCALENDAR