BEGIN:VCALENDAR
VERSION:2.0
PRODID:-//Paroisses de Ploemeur et de Larmor-Plage - ECPv6.7.0//NONSGML v1.0//EN
CALSCALE:GREGORIAN
METHOD:PUBLISH
X-WR-CALNAME:Paroisses de Ploemeur et de Larmor-Plage
X-ORIGINAL-URL:https://paroisses-ploemeur-larmorplage.fr
X-WR-CALDESC:Évènements pour Paroisses de Ploemeur et de Larmor-Plage
REFRESH-INTERVAL;VALUE=DURATION:PT1H
X-Robots-Tag:noindex
X-PUBLISHED-TTL:PT1H
BEGIN:VTIMEZONE
TZID:UTC
BEGIN:STANDARD
TZOFFSETFROM:+0000
TZOFFSETTO:+0000
TZNAME:UTC
DTSTART:20240101T000000
END:STANDARD
END:VTIMEZONE
BEGIN:VEVENT
DTSTART;VALUE=DATE:20241231
DTEND;VALUE=DATE:20250101
DTSTAMP:20260425T140137
CREATED:20240727T170858Z
LAST-MODIFIED:20241105T134231Z
UID:9300-1735603200-1735689599@paroisses-ploemeur-larmorplage.fr
SUMMARY:Restauration de la chapelle Notre-Dame de la Garde - Lomener
DESCRIPTION:Restauration de la chapelle Notre-Dame de la Garde à Lomener :  \nUn appel de fonds est lancé pour financer les travaux nécessaires à la poursuite de son activité.
URL:https://paroisses-ploemeur-larmorplage.fr/evenement/restauration-de-la-chapelle-notre-dame-de-la-garde-lomener/
CATEGORIES:Evènement accueil,Larmor Plage,Ploemeur
ATTACH;FMTTYPE=image/jpeg:https://paroisses-ploemeur-larmorplage.fr/wp-content/uploads/2024/07/20240727_184830-scaled-e1722099876718.jpg
END:VEVENT
END:VCALENDAR