BEGIN:VCALENDAR
VERSION:2.0
PRODID:-//Paroisses de Ploemeur et de Larmor-Plage - ECPv6.7.0//NONSGML v1.0//EN
CALSCALE:GREGORIAN
METHOD:PUBLISH
X-WR-CALNAME:Paroisses de Ploemeur et de Larmor-Plage
X-ORIGINAL-URL:https://paroisses-ploemeur-larmorplage.fr
X-WR-CALDESC:Évènements pour Paroisses de Ploemeur et de Larmor-Plage
REFRESH-INTERVAL;VALUE=DURATION:PT1H
X-Robots-Tag:noindex
X-PUBLISHED-TTL:PT1H
BEGIN:VTIMEZONE
TZID:UTC
BEGIN:STANDARD
TZOFFSETFROM:+0000
TZOFFSETTO:+0000
TZNAME:UTC
DTSTART:20250101T000000
END:STANDARD
END:VTIMEZONE
BEGIN:VEVENT
DTSTART;VALUE=DATE:20250409
DTEND;VALUE=DATE:20250410
DTSTAMP:20260421T172954
CREATED:20250315T082919Z
LAST-MODIFIED:20250315T082919Z
UID:9676-1744156800-1744243199@paroisses-ploemeur-larmorplage.fr
SUMMARY:Témoignage des fondateurs des « villages saint Joseph »
DESCRIPTION:témoignage de Katia et Nathanaël GAY\, fondateurs des « villages saint Joseph » et auteurs du livre « les pauvres sont nos maîtres » (2023) \nle mercredi 9 avril\, 20h30\, salle paroissiale de Guidel (ex école Polignac)
URL:https://paroisses-ploemeur-larmorplage.fr/evenement/temoignage-des-fondateurs-des-villages-saint-joseph/
LOCATION:Salle paroissiale de Guidel (ex école Polignac)
CATEGORIES:Evènement accueil,Larmor Plage,Ploemeur
ATTACH;FMTTYPE=image/jpeg:https://paroisses-ploemeur-larmorplage.fr/wp-content/uploads/2025/03/Les-pauvres-sont-nos-maitres.jpg
END:VEVENT
BEGIN:VEVENT
DTSTART;VALUE=DATE:20250409
DTEND;VALUE=DATE:20250410
DTSTAMP:20260421T172954
CREATED:20250309T205753Z
LAST-MODIFIED:20250309T205753Z
UID:9659-1744156800-1744243199@paroisses-ploemeur-larmorplage.fr
SUMMARY:Célébration communautaire du Pardon
DESCRIPTION:Célébration communautaire du Pardon à 20h à Ploemeur
URL:https://paroisses-ploemeur-larmorplage.fr/evenement/celebration-communautaire-du-pardon/
LOCATION:Eglise St Pierre\, place de l'Eglise\, Ploemeur\, France
CATEGORIES:Evènement accueil,Larmor Plage,Ploemeur
ATTACH;FMTTYPE=image/jpeg:https://paroisses-ploemeur-larmorplage.fr/wp-content/uploads/2019/12/sacrement-du-pardon.jpg
END:VEVENT
END:VCALENDAR